BEGIN:VCALENDAR
PRODID:-//fastli10070//EN
VERSION:2.0
BEGIN:VEVENT
SUMMARY:Fastline Auction, LLC: Fastline Auctions - May 19, 2026
PRIORITY:0
CLASS:PUBLIC
DTSTART:20260506T150000Z
DTEND:20260519T150000Z
DESCRIPTION:
X-ALT-DESC;FMTTYPE=text/html:
LOCATION:see lot description, multiple locations, Kentucky, 40010, United States
END:VEVENT
END:VCALENDAR